Workbook

Sheet Sheet1
D1: CỘNG HÒA XÃ HỘI CHỦ NGHĨA VIỆT NAM
D2: Độc lập - Tự do - Hạnh phúc
B3: --------------------- Số: 08.01 -GDKQ/2021/BC-AIS | D3: ------------------------
D4: Hà Nội, ngày 06 tháng 09 năm 2021
B6: BÁO CÁO TÌNH HÌNH THỰC HIỆN GIAO DỊCH KÝ QUỸ THÁNG 08/2021
B7: Kính gửi: Sở GDCK Hà Nội
B9: Công ty Cổ phần chứng khoán AIS xin báo cáo Sở Giao dịch Chứng khoán Hà Nội danh mục chứng khoán thực hiện giao dịch ký quỹ trong tháng 08/2021 như sau:
B10: Stt | C10: Mã Chứng khoán thực hiện Giao dịch ký quỹ đầu kỳ | D10: Mã Chứng khoán bỏ ra khỏi danh mục giao dịch ký quỹ trong kỳ | E10: Mã Chứng khoán bổ sung vào danh mục giao dịch ký quỹ trong kỳ | F10: Mã Chứng khoán thực hiện Giao dịch ký quỹ cuối kỳ
B11: 1 | C11: AAV | D11: TXM | F11: AAV
B12: 2 | C12: ABT | D12: BXH | F12: ADC
B13: 3 | C13: ADC | D13: PEN | F13: ALT
B14: 4 | C14: ALT | D14: SGD | F14: AME
B15: 5 | C15: AME | D15: CX8 | F15: AMV
B16: 6 | C16: AMV | D16: THB | F16: APS
B17: 7 | C17: APS | D17: PVB | F17: ARM
B18: 8 | C18: ARM | D18: VLA | F18: ART
B19: 9 | C19: ART | D19: SMT | F19: ASG
B20: 10 | C20: ASG | D20: KTT | F20: ATS
B21: 11 | C21: ATS | D21: ABT | F21: BAX
B22: 12 | C22: BAX | D22: BBC | F22: BBS
... B30: 20 | C30: BSC | D30: VND | F30: BTS
B31: 21 | C31: BSI | F31: BTW
B32: 22 | C32: BST | F32: BVS
B33: 23 | C33: BTS | F33: C69
B34: 24 | C34: BTW | F34: CAG
B35: 25 | C35: BVS | F35: CAN
B36: 26 | C36: BXH | F36: CAP
B37: 27 | C37: C69 | F37: CAV
B38: 28 | C38: CAG | F38: CDN
B39: 29 | C39: CAN | F39: CET
B40: 30 | C40: CAP | F40: CLH
B41: 31 | C41: CAV | F41: CLM
B42: 32 | C42: CDN | F42: CMC
... B272: 262 | C272: VNF | F272: X20
B273: 263 | C273: VNR
B274: 264 | C274: VSA
B275: 265 | C275: VSM
B276: 266 | C276: VTC
B277: 267 | C277: VTV
B278: 268 | C278: WCS
B279: 269 | C279: BNA
B280: 270 | C280: DTK
B281: 271 | C281: GIC
B282: 272 | C282: GMA
B283: 273 | C283: HDA
B284: 274 | C284: KDM
... B292: 282 | C292: X20
B293: 283
A296: https://www.aisec.com.vn/blog/cong-bo-thong-tin/thong-bao-ais.html
A297: Chúng tôi cam kết và chịu trách nhiệm về tính trung thực của báo cáo này.
A299: NGƯỜI LẬP (ký, ghi rõ họ tên) | D299: KIỂM SOÁT (ký, ghi rõ họ tên) | E299: TỔNG GIÁM ĐỐC (ký, đóng dấu và ghi rõ họ tên)
A301: Nguyễn Thị Ngọc Minh | D301: Nguyễn Thị Nhung | E301: Nguyễn Ngô Thị Thu Phương

Sheet Sheet3

Sheet Sheet4
H1: cấm GDKQ | I1: bang gia | J1: 4
H2: ACM | I2: AAV | J2: =VLOOKUP(I2,$H$2:$H$98,1,0) -> #N/A
H3: AMC | I3: ABT | J3: =VLOOKUP(I3,$H$2:$H$98,1,0) -> #N/A
H4: API | I4: ACM | J4: =VLOOKUP(I4,$H$2:$H$98,1,0) -> ACM
H5: APP | I5: ADC | J5: =VLOOKUP(I5,$H$2:$H$98,1,0) -> #N/A
H6: BAB | I6: ALT | J6: =VLOOKUP(I6,$H$2:$H$98,1,0) -> #N/A
H7: BII | I7: AMC | J7: =VLOOKUP(I7,$H$2:$H$98,1,0) -> AMC
H8: BKC | I8: AME | J8: =VLOOKUP(I8,$H$2:$H$98,1,0) -> #N/A
H9: BLF | I9: AMV | J9: =VLOOKUP(I9,$H$2:$H$98,1,0) -> #N/A
H10: BXH | I10: API | J10: =VLOOKUP(I10,$H$2:$H$98,1,0) -> API
H11: C92 | I11: APP | J11: =VLOOKUP(I11,$H$2:$H$98,1,0) -> APP
H12: CEO | I12: APS | J12: =VLOOKUP(I12,$H$2:$H$98,1,0) -> #N/A
H13: CIA | I13: ARM | J13: =VLOOKUP(I13,$H$2:$H$98,1,0) -> #N/A
... H88: VIE | I88: FID | J88: =VLOOKUP(I88,$H$2:$H$98,1,0) -> FID
I89: GDW | J89: =VLOOKUP(I89,$H$2:$H$98,1,0) -> #N/A
H90: VMI | I90: GIC | J90: =VLOOKUP(I90,$H$2:$H$98,1,0) -> #N/A
I91: GKM | J91: =VLOOKUP(I91,$H$2:$H$98,1,0) -> #N/A
I92: GLT | J92: =VLOOKUP(I92,$H$2:$H$98,1,0) -> #N/A
H93: VTJ | I93: GMA | J93: =VLOOKUP(I93,$H$2:$H$98,1,0) -> #N/A
I94: GMX | J94: =VLOOKUP(I94,$H$2:$H$98,1,0) -> #N/A
I95: HAD | J95: =VLOOKUP(I95,$H$2:$H$98,1,0) -> #N/A
H96: VXB | I96: HAP | J96: =VLOOKUP(I96,$H$2:$H$98,1,0) -> #N/A
I97: HAT | J97: =VLOOKUP(I97,$H$2:$H$98,1,0) -> #N/A
I98: HBE | J98: =VLOOKUP(I98,$H$2:$H$98,1,0) -> HBE
I99: HBS | J99: =VLOOKUP(I99,$H$2:$H$98,1,0) -> #N/A
I100: HCC | J100: =VLOOKUP(I100,$H$2:$H$98,1,0) -> #N/A
I101: HCT | J101: =VLOOKUP(I101,$H$2:$H$98,1,0) -> #N/A
I102: HDA | J102: =VLOOKUP(I102,$H$2:$H$98,1,0) -> #N/A
I103: HEV | J103: =VLOOKUP(I103,$H$2:$H$98,1,0) -> #N/A
I104: HGM | J104: =VLOOKUP(I104,$H$2:$H$98,1,0) -> HGM
I105: HHC | J105: =VLOOKUP(I105,$H$2:$H$98,1,0) -> #N/A
I106: HHG | J106: =VLOOKUP(I106,$H$2:$H$98,1,0) -> HHG
I107: HJS | J107: =VLOOKUP(I107,$H$2:$H$98,1,0) -> #N/A
I108: HKB | J108: =VLOOKUP(I108,$H$2:$H$98,1,0) -> HKB
... I273: STP | J273: =VLOOKUP(I273,$H$2:$H$98,1,0) -> #N/A
C274: 1 | I274: SVN | J274: =VLOOKUP(I274,$H$2:$H$98,1,0) -> #N/A
I275: SZB | J275: =VLOOKUP(I275,$H$2:$H$98,1,0) -> #N/A
I276: TA9 | J276: =VLOOKUP(I276,$H$2:$H$98,1,0) -> #N/A
I277: TAR | J277: =VLOOKUP(I277,$H$2:$H$98,1,0) -> #N/A
I278: TBX | J278: =VLOOKUP(I278,$H$2:$H$98,1,0) -> TBX
I279: TC6 | J279: =VLOOKUP(I279,$H$2:$H$98,1,0) -> #N/A
I280: TDN | J280: =VLOOKUP(I280,$H$2:$H$98,1,0) -> #N/A
I281: TDT | J281: =VLOOKUP(I281,$H$2:$H$98,1,0) -> #N/A
I282: TET | J282: =VLOOKUP(I282,$H$2:$H$98,1,0) -> #N/A
I283: TFC | J283: =VLOOKUP(I283,$H$2:$H$98,1,0) -> #N/A
I284: THB | J284: =VLOOKUP(I284,$H$2:$H$98,1,0) -> THB
I285: THD | J285: =VLOOKUP(I285,$H$2:$H$98,1,0) -> #N/A
I286: THI | J286: =VLOOKUP(I286,$H$2:$H$98,1,0) -> #N/A
... I360: X20 | J360: =VLOOKUP(I360,$H$2:$H$98,1,0) -> #N/A

Sheet VLOOK UP
F1: C
E2: AAV | F2: =VLOOKUP(E2,Sheet1!$F$11:$F$281,1,0) -> AAV
E3: ABT | F3: =VLOOKUP(E3,Sheet1!$F$11:$F$281,1,0) -> #N/A
E4: ADC | F4: =VLOOKUP(E4,Sheet1!$F$11:$F$281,1,0) -> ADC
E5: ALT | F5: =VLOOKUP(E5,Sheet1!$F$11:$F$281,1,0) -> ALT
E6: AME | F6: =VLOOKUP(E6,Sheet1!$F$11:$F$281,1,0) -> AME
E7: AMV | F7: =VLOOKUP(E7,Sheet1!$F$11:$F$281,1,0) -> AMV
E8: APS | F8: =VLOOKUP(E8,Sheet1!$F$11:$F$281,1,0) -> APS
E9: ARM | F9: =VLOOKUP(E9,Sheet1!$F$11:$F$281,1,0) -> ARM
E10: ART | F10: =VLOOKUP(E10,Sheet1!$F$11:$F$281,1,0) -> ART
E11: ASG | F11: =VLOOKUP(E11,Sheet1!$F$11:$F$281,1,0) -> ASG
E12: ATS | F12: =VLOOKUP(E12,Sheet1!$F$11:$F$281,1,0) -> ATS
E13: BAX | F13: =VLOOKUP(E13,Sheet1!$F$11:$F$281,1,0) -> BAX
... E60: DTK | F60: =VLOOKUP(E60,Sheet1!$F$11:$F$281,1,0) -> DTK
E61: DVG | F61: =VLOOKUP(E61,Sheet1!$F$11:$F$281,1,0) -> #N/A | G61: quý mới ra
E62: DXP | F62: =VLOOKUP(E62,Sheet1!$F$11:$F$281,1,0) -> DXP
E63: EBS | F63: =VLOOKUP(E63,Sheet1!$F$11:$F$281,1,0) -> EBS
E64: ECI | F64: =VLOOKUP(E64,Sheet1!$F$11:$F$281,1,0) -> ECI
E65: EID | F65: =VLOOKUP(E65,Sheet1!$F$11:$F$281,1,0) -> EID
E66: EVS | F66: =VLOOKUP(E66,Sheet1!$F$11:$F$281,1,0) -> EVS
E67: GDW | F67: =VLOOKUP(E67,Sheet1!$F$11:$F$281,1,0) -> GDW
E68: GIC | F68: =VLOOKUP(E68,Sheet1!$F$11:$F$281,1,0) -> GIC
E69: GKM | F69: =VLOOKUP(E69,Sheet1!$F$11:$F$281,1,0) -> GKM
E70: GLT | F70: =VLOOKUP(E70,Sheet1!$F$11:$F$281,1,0) -> GLT
E71: GMA | F71: =VLOOKUP(E71,Sheet1!$F$11:$F$281,1,0) -> GMA
E72: GMX | F72: =VLOOKUP(E72,Sheet1!$F$11:$F$281,1,0) -> GMX
E73: HAD | F73: =VLOOKUP(E73,Sheet1!$F$11:$F$281,1,0) -> HAD
... E105: L62 | F105: =VLOOKUP(E105,Sheet1!$F$11:$F$281,1,0) -> L62
E106: LAF | F106: =VLOOKUP(E106,Sheet1!$F$11:$F$281,1,0) -> #N/A | G106: Chuyển nhưng giữ
E107: LAS | F107: =VLOOKUP(E107,Sheet1!$F$11:$F$281,1,0) -> LAS
E108: LBE | F108: =VLOOKUP(E108,Sheet1!$F$11:$F$281,1,0) -> LBE
E109: LCD | F109: =VLOOKUP(E109,Sheet1!$F$11:$F$281,1,0) -> LCD
E110: LHC | F110: =VLOOKUP(E110,Sheet1!$F$11:$F$281,1,0) -> LHC
E111: LIG | F111: =VLOOKUP(E111,Sheet1!$F$11:$F$281,1,0) -> LIG
E112: MAC | F112: =VLOOKUP(E112,Sheet1!$F$11:$F$281,1,0) -> MAC
E113: MBG | F113: =VLOOKUP(E113,Sheet1!$F$11:$F$281,1,0) -> MBG
E114: MBS | F114: =VLOOKUP(E114,Sheet1!$F$11:$F$281,1,0) -> MBS
E115: MCC | F115: =VLOOKUP(E115,Sheet1!$F$11:$F$281,1,0) -> MCC
E116: MCF | F116: =VLOOKUP(E116,Sheet1!$F$11:$F$281,1,0) -> MCF
E117: MCO | F117: =VLOOKUP(E117,Sheet1!$F$11:$F$281,1,0) -> MCO
E118: MDC | F118: =VLOOKUP(E118,Sheet1!$F$11:$F$281,1,0) -> MDC
... E175: PVS | F175: =VLOOKUP(E175,Sheet1!$F$11:$F$281,1,0) -> PVS
E176: QBS | F176: =VLOOKUP(E176,Sheet1!$F$11:$F$281,1,0) -> #N/A | G176: Chuyển nhưng giữ
E177: QHD | F177: =VLOOKUP(E177,Sheet1!$F$11:$F$281,1,0) -> QHD
E178: QST | F178: =VLOOKUP(E178,Sheet1!$F$11:$F$281,1,0) -> QST
E179: RCL | F179: =VLOOKUP(E179,Sheet1!$F$11:$F$281,1,0) -> RCL
E180: S55 | F180: =VLOOKUP(E180,Sheet1!$F$11:$F$281,1,0) -> S55
E181: S99 | F181: =VLOOKUP(E181,Sheet1!$F$11:$F$281,1,0) -> S99
E182: SAF | F182: =VLOOKUP(E182,Sheet1!$F$11:$F$281,1,0) -> SAF
E183: SCI | F183: =VLOOKUP(E183,Sheet1!$F$11:$F$281,1,0) -> SCI
E184: SD5 | F184: =VLOOKUP(E184,Sheet1!$F$11:$F$281,1,0) -> SD5
E185: SD6 | F185: =VLOOKUP(E185,Sheet1!$F$11:$F$281,1,0) -> SD6
E186: SD9 | F186: =VLOOKUP(E186,Sheet1!$F$11:$F$281,1,0) -> SD9
E187: SDC | F187: =VLOOKUP(E187,Sheet1!$F$11:$F$281,1,0) -> SDC
E188: SDG | F188: =VLOOKUP(E188,Sheet1!$F$11:$F$281,1,0) -> SDG
... E276: X20 | F276: =VLOOKUP(E276,Sheet1!$F$11:$F$281,1,0) -> X20

Sheet Sheet2
E1: AAV | G1: NST
E2: ABT | G2: TXM
E3: ADC | G3: BXH
E4: ALT | G4: PEN
E5: AME | G5: SGD
E6: AMV | G6: CX8
E7: APS | G7: THB
E8: ARM | G8: PVB
E9: ART | G9: VLA
E10: ASG | G10: SMT
E11: ATS | G11: KTT
E12: BAX | G12: SGR
E13: BBC | G13: NRC
E14: BBS
E15: BCC
E16: BCF
E17: BDB
E18: BED
E19: BPC
E20: BSC
E21: BSI
E22: BST
E23: BTS
E24: BTW
E25: BVS
... E271: X20

Sheet DS K ĐƯỢC KÝ QUỸ 06.09
A1: 1 | B1: ACM | C1: CTCP Tập đoàn Khoáng sản Á Cường | D1: 44386 | E1: - Chứng khoán thuộc diện bị kiểm soát - Tổ chức phát hành có BCTC BNSX 2020 có ý kiến không phải là ý kiến chấp thuận toàn phần của tổ chức kiểm toán
A2: 2 | B2: AMC | C2: CTCP Khoáng sản Á Châu | D2: 44386 | E2: Tổ chức phát hành có BCTC Kiểm toán 2020 có ý kiến không phải là ý kiến chấp nhận toàn phần của tổ chức kiểm toán
A3: 3 | B3: API | C3: CTCP Đầu tư Châu Á - Thái Bình Dương | D3: 44386 | E3: '- Chứng khoán bị cảnh báo
A4: 4 | B4: APP | C4: CTCP Phát triển phụ gia và sản phầm dầu mỏ | D4: 44386 | E4: Tổ chức phát hành có BCTC kiểm toán 2020 có ý kiến không phải là ý kiến chấp nhận toàn phần của tổ chức kiểm toán
A5: 5 | B5: BAB | C5: Ngân hàng TMCP Bắc Á | D5: 44386 | E5: thời gian niêm yết dưới 6 tháng
A6: 6 | B6: BII | C6: CTCP Đầu tư và Phát triển công nghiệp Bảo Thư | D6: 44386 | E6: - Chứng khoán thuộc diện bị cảnh báo -'Tổ chức phát hành có BCTC kiểm toán 2020 có ý kiến không phải là ý kiến chấp nhận toàn phần của tổ chức kiểm toán
A7: 7 | B7: BKC | C7: CTCP Khoáng Sản Bắc Kạn | D7: 44386 | E7: - Chứng khoán thuộc diện bị cảnh báo - Tổ chức phát hành có BCTC kiểm toán năm 2020 có ý kiến không phải là ý kiến chấp nhận toàn phần của tổ chức kiểm toán
A8: 8 | B8: BLF | C8: CTCP Thủy sản Bạc Liêu | D8: 44434 | E8: LNST 6 tháng tại BCTC bán niên soát xét 2021 là số âm
A9: 9 | B9: BXH | C9: CTCP Vicem Bao bì Hải Phòng | D9: 44426 | E9: - Tổ chức phát hành có BCTC bán niên soát xét năm 2021 có ý kiến không phải là ý kiến chấp nhận toàn phần của tổ chức kiểm toán.
A10: 10 | B10: C92 | C10: CTCP Xây dựng và đầu tư 492 | D10: 44386 | E10: - Chứng khoán thuộc diện bị cảnh báo. -Tổ chức phát hành có BCTC kiểm toán năm 2020 có ý kiến không phải là ý kiến chấp nhận toàn phần của tổ chức kiểm toán
A11: 11 | B11: CEO | C11: CTCP Tập đoàn C.E.O | D11: 44386 | E11: - Chứng khoán thuộc diện bị cảnh báo
A12: 12 | B12: CIA | C12: CTCP Dịch vụ sân bay quốc tế Cam Ranh | D12: 44386 | E12: - Chứng khoán thuộc diện bị cảnh báo
A13: 13 | B13: CJC | C13: CTCP Coơ điện miền Trung | D13: 44386 | E13: - Chứng khoán thuộc diện bị cảnh báo
A14: 14 | B14: CKV | C14: CTCP COKYVINA | D14: 44386 | E14: Tổ chức phát hành có BCTC Kiểm toán năm 2020 có ý kiến không phải là ý kiến chấp nhận toàn phần của tổ chức kiểm toán
A15: 15 | B15: CMS | C15: CTCP CMVIETNAM | D15: 44386 | E15: - Chứng khoán thuộc diện bị cảnh báo - Tổ chức phát hành có BCTC kiểm toán năm 2020 có ý kiến không phải là ý kiến chấp nhận toàn phần của tổ chức kiểm toán
A16: 16 | B16: CTC | C16: CTCP Gia Lai CTC | D16: 44386 | E16: - Chứng khoán thuộc diện bị cảnh báo; - Tổ chức phát hành có BCTC kiểm toán năm 2020 có ý kiến không phải là ý kiến chấp nhận toàn phần của tổ chức kiểm toán
A17: 17 | B17: CTX | C17: Tổng CTCP Đầu tư xây dựng và thương mại Việt Nam | D17: 44386 | E17: - Chứng khoán thuộc diện bị cảnh báo
A18: 18 | B18: CX8 | C18: CTCP Đầu tư và Xây lắp Contrexim số 8 | D18: 44431 | E18: LNST 6 tháng và LNST chưa phân phối tại BCTC bán niên soát xét 2021 là số âm
A19: 19 | B19: DST | C19: CTCP Đầu tư Sao Thăng Long | D19: 44386 | E19: -Chứng khoán thuộc diện bị cảnh báo
A20: 20 | B20: DXS | C20: CTCP Dịch vụ Bất động sản Đất Xanh | D20: 44392 | E20: thời gian niêm yết dưới 6 tháng
A21: 21 | B21: DZM | C21: CTCP Chế tạo máy Dzĩ An | D21: 44386 | E21: -Chứng khoán thuộc diện bị cảnh báo
A22: 22 | B22: EBA | C22: CTCP Điện Bắc Nà | D22: 44403 | E22: Chứng khoán niêm yết trong tình trạng bị hủy niêm yết
A23: 23 | B23: FID | C23: CTCP Đầu tư và Phát triển Doanh nghiệp Việt Nam | D23: 44386 | E23: -Chứng khoán thuộc diện bị cảnh báo
A24: 24 | B24: HBE | C24: CTCP Sách thiết bị trường học Hà Tĩnh | D24: 44386 | E24: Chứng khoán thuộc diện bị hủy niêm yết
A25: 25 | B25: HGM | C25: CTCP Cơ khí và Khoáng sản Hà Giang | D25: 44386 | E25: Tổ chức phát hành có BCTC Kiểm toán năm 2020 có ý kiến không phải là ý kiến chấp nhận toàn phần của tổ chức kiểm toán
A26: 26 | B26: HHG | C26: CTCP Hoàng Hà | D26: 44386 | E26: '- Chứng khoán thuộc diện bị cảnh báo
A27: 27 | B27: HKB | C27: CTCP Nông nghiệp và Thực phẩm Hà Nội-Kinh Bắc | D27: 44386 | E27: -Chứng khoán thuộc diện bị hủy niêm yết - Tổ chức phát hành có BCTC năm 2019, 2020 có ý kiến không phải là ý kiến chấp thuận toàn phần
A28: 28 | B28: HKT | C28: CTCP Đầu tư Ego Việt Nam | D28: 44433 | E28: LNST 6 tháng tại BCTC bán niên soát xét 2021 là số âm
A29: 29 | B29: HPM | C29: CTCP Xây dựng Thương mại và Khoáng sản Hoàng Phúc | D29: 44386 | E29: - Chứng khoán thuộc diện bị kiểm soát. - Tổ chức phát hành có BCTC kiểm toán năm 2020 có ý kiến không phải là ý kiến chấp nhận toàn phần của tổ chức kiểm toán
A30: 30 | B30: HUT | C30: CTCP Tasco | D30: 44386 | E30: Chứng khoán thuộc diện bị cảnh báo
A31: 31 | B31: IVS | C31: CTCP Chứng khoán Đầu tư Việt Nam | D31: 44386 | E31: Chứng khoán thuộc diện bị cảnh báo
A32: 32 | B32: KHG | C32: CTCP Bất động sản Khải Hoàn Land | D32: 44396 | E32: thời gian niêm yết dưới 6 tháng
A33: 33 | B33: KSD | C33: CTCP Đầu tư DNA | D33: 44386 | E33: Chứng khoán thuộc diện bị cảnh báo
A34: 34 | B34: KSQ | C34: CTCP CNC Capital Việt Nam | D34: 44386 | E34: - Chứng khoán thuộc diện bị cảnh báo -Tổ chức phát hành có BCTC kiểm toán năm 2020 có ý kiến không phải là ý kiến chấp nhận toàn phần của tổ chức kiểm toán
A35: 35 | B35: KTT | C35: CTCP Tập đoàn Đầu tư KTT | D35: 44439 | E35: LNST 6 tháng tại BCTC bán niên soát xét 2021 là số âm
A36: 36 | B36: KVC | C36: CTCP Sản xuất Xuất nhập khẩu Inox Kim Vĩ | D36: 44386 | E36: - Chứng khoán thuộc diện bị cảnh báo
A37: 37 | B37: L18 | C37: CTCP Đầu tư và xây dựng số 18 | D37: 44386 | E37: Tổ chức phát hành có BCTC kiểm toán năm 2020 có ý kiến không phải là ý kiến chấp nhận toàn phần của tổ chức kiểm toán
A38: 38 | B38: L35 | C38: CTCP Cơ khí lắp máy lilama | D38: 44386 | E38: - Chứng khoán thuộc diện bị cảnh báo
A39: 39 | B39: L40 | C39: CTCP Đầu tư và Xây dựng 40 | D39: 44386 | E39: thời gian niêm yết dưới 6 tháng
A40: 40 | B40: L43 | C40: CTCP Lilama 45.3 | D40: 44386 | E40: - Chứng khoán thuộc diện bị cảnh báo
A41: 41 | B41: L61 | C41: CTCP Lilama 69-1 | D41: 44386 | E41: -Tổ chức phát hành có BCTC kiểm toán năm 2020 có ý kiến không phải là ý kiến chấp nhận toàn phần của tổ chức kiểm toán - Chứng khoán bị cảnh báo
A42: 42 | B42: LCS | C42: CTCP Licogi 166 | D42: 44386 | E42: -Chứng khoán thuộc diện bị cảnh báo
A43: 43 | B43: LDP | C43: CTCP Dược Lâm Đồng Ladophar | D43: 44386 | E43: Chứng khoán bị cảnh báo
A44: 44 | B44: LM7 | C44: CTCP Lilama 7 | D44: 44386 | E44: '- Chứng khoán thuộc diện bị cảnh báo;
A45: 45 | B45: LUT | C45: CTCP Đầu tư xây dựng Lương Tài | D45: 44386 | E45: - Chứng khoán thuộc diện bị cảnh báo
A46: 46 | B46: MAS | C46: CTCP Dịch vụ hàng không sân bay Đà Nẵng | D46: 44386 | E46: '- Chứng khoán thuộc diện bị cảnh báo;
A47: 47 | B47: MIM | C47: CTCP Khoáng sản và cơ khí | D47: 44386 | E47: - Chứng khoán thuộc diện bị kiểm soát
A48: 48 | B48: NST | C48: CTCP Ngân Sơn | D48: 44413 | E48: LNST 6 tháng và LNST chưa phân phối tại BCTC bán niên soát xét 2021 là số âm
A49: 49 | B49: OCH | C49: CTCP Khách sạn và dịch vụ Đại Dương | D49: 44386 | E49: - Chứng khoán thuộc diện bị kiểm soát; - Tổ chức phát hành có BCTC kiểm toán năm 2020 có ý kiến không phải là ý kiến chấp nhận toàn phần của tổ chức kiểm toán.
A50: 50 | B50: PCG | C50: CTCP Đầu tư Phát triển Gas Đô thị | D50: 44386 | E50: chứng khoán bị cảnh báo
A51: 51 | B51: PDC | C51: CTCP Du lịch Dầu khí Phương Đông | D51: 44386 | E51: - Chứng khoán thuộc diện bị cảnh báo - Tổ chức phát hành có BCTC kiểm toán năm 2020 có ý kiến không phải là ý kiến chấp nhận toàn phần của tổ chức kiểm toán.
A52: 52 | B52: PEN | C52: CTCP Xây lắp III - Petrolimex | D52: 44435 | E52: LNST 6 tháng tại BCTC bán niên soát xét 2021 là số âm
A53: 53 | B53: PGT | C53: CTCP PGT Holdings | D53: 44386 | E53: '- Chứng khoán thuộc diện bị kiểm soát
A54: 54 | B54: PHP | C54: CTCP Cảng Hải Phòng | D54: 44386 | E54: Tổ chức phát hành có BCTC kiểm toán năm 2020 có ý kiến không phải là ý kiến chấp nhận toàn phần của tổ chức kiểm toán.
A55: 55 | B55: PPE | C55: CTCP Tư vấn Điện lực Dầu khí Việt Nam | D55: 44386 | E55: - Chứng khoán thuộc diện bị cảnh báo
A56: 56 | B56: PV2 | C56: CTCP Đầu tư PV2 | D56: 44386 | E56: Chứng khoán thuộc diện bị cảnh báo
A57: 57 | B57: PVB | C57: CTCP Bọc ống Dầu khí Việt Nam | D57: 44431 | E57: LNST 6 tháng và LNST chưa phân phối tại BCTC bán niên soát xét 2021 là số âm
A58: 58 | B58: PVL | C58: CTCP Đầu tư Nhà đất Việt | D58: 44386 | E58: - Chứng khoán thuộc diện bị kiểm soát; -Tổ chức phát hành có BCTC kiểm toán năm 2020 có ý kiến không phải là ý kiến chấp nhận toàn phần của tổ chức kiểm toán.
A59: 59 | B59: QTC | C59: CTCP Công trình Giao thông Vận tải Quảng Nam | D59: 44386 | E59: Tổ chức phát hành có BCTC kiểm toán năm 2020 có ý kiến không phải là ý kiến chấp nhận toàn phần của tổ chức kiểm toán
A60: 60 | B60: SD2 | C60: CTCP Sông Đà 2 | D60: 44386 | E60: - Chứng khoán thuộc diện bị kiểm soát -Tổ chức phát hành có BCTC kiểm toán năm 2020 có ý kiến không phải là ý kiến chấp nhận toàn phần của tổ chức kiểm toán
A61: 61 | B61: SD4 | C61: CTCP Sông Đà 4 | D61: 44386 | E61: - Tổ chức phát hành có BCTC kiểm toán năm 2020 có ý kiến không phải là ý kiến chấp nhận toàn phần của tổ chức kiểm toán; -Tổ chức niêm yết chậm CBTT BCTC năm 2020 kiểm toán quá 5 ngày kể từ ngày hết hạn CBTT;
A62: 62 | B62: SDA | C62: CTCP SIMCO Sông Đà | D62: 44386 | E62: -Tổ chức phát hành có BCTC năm 2020 có ý kiến không phải là ý kiến chấp nhận toàn phần của tổ chức kiểm toán - Chứng khoán thuộc diện bị cảnh báo
A63: 63 | B63: SGD | C63: CTCP Sách Giáo dục tại Thành Phố Hồ Chí Minh | D63: 44434 | E63: LNST 6 tháng tại BCTC bán niên soát xét 2021 là số âm
A64: 64 | B64: SMT | C64: CTCP Sametel | D64: 44438 | E64: LNST 6 tháng và LNST chưa phân phối tại BCTC bán niên soát xét 2021 là số âm
A65: 65 | B65: SPI | C65: CTCP SPI | D65: 44386 | E65: - Tổ chức niêm yết chậm CBTT BCTC năm 2020 kiểm toán quá 5 ngày kể từ ngày hết hạn CBTT - Chứng khoán thuộc diện cảnh báo
A66: 66 | B66: SSM | C66: CTCP Chế tạo Kết cấu thép VNECO.SSM | D66: 44386 | E66: Chứng khoán thuộc diện bị cảnh báo
A67: 67 | B67: TBX | C67: CTCP Xi măng Thái Bình | D67: 44386 | E67: '- Chứng khoán thuộc diện bị kiểm soát
A68: 68 | B68: THB | C68: CTCP Bia Hà Nội - Thanh Hoá | D68: 44431 | E68: LNST 6 tháng và LNST chưa phân phối tại BCTC bán niên soát xét 2021 là số âm
A69: 69 | B69: TJC | C69: CTCP Dịch vụ vận tải và thương mại | D69: 44386 | E69: Chứng khoán thuộc diện bị cảnh báo
A70: 70 | B70: TST | C70: CTCP Dịch vụ Kỹ thuật Viễn thông | D70: 44386 | E70: - Tổ chức phát hành có BCTC kiểm toán năm 2020 có ý kiến không phải là ý kiến chấp nhận toàn phần của tổ chức kiểm toán. -Chứng khoán thuộc diện bị cảnh báo;
A71: 71 | B71: TTH | C71: CTCP Thương mại và Dịch vụ Tiến Thành | D71: 44386 | E71: chứng khoán bị cảnh báo
A72: 72 | B72: TTZ | C72: CTCP Đầu tư xây dựng và công nghệ Tiến Trung | D72: 44386 | E72: - Chứng khoán thuộc diện bị kiểm soát - Tổ chức phát hành có BCTC Kiểm toán 2020 có ý kiến không phải là ý kiến chấp nhận toàn phần của tổ chức kiểm toán.
A73: 73 | B73: TXM | C73: CTCP Vicem Thạch cao Xi măng | D73: 44421 | E73: LNST 6 tháng và LNST chưa phân phối tại BCTC bán niên soát xét 2021 là số âm
A74: 74 | B74: V21 | C74: CTCP Vinaconex 21 | D74: 44386 | E74: -Chứng khoán thuộc diện bị cảnh báo
A75: 75 | B75: VAT | C75: CTCP VT Vạn Xuân | D75: 44386 | E75: -Tổ chức niêm yết chậm công bố thông tin BCTC bán niên soát xét năm 2020 quá 05 ngày làm việc. - Chứng khoán vào diện bị tạm ngừng giao dịch
A76: 76 | B76: VC9 | C76: CTCP Xây dựng số 9 | D76: 44434 | E76: - Tổ chức phát hành có BCTC bán niên soát xét năm 2021 có ý kiến không phải là ý kiến chấp nhận toàn phần của tổ chức kiểm toán;
A77: 77 | B77: VE1 | C77: CTCP Xây dựng điện VNECO 1 | D77: 44386 | E77: - Chứng khoán thuộc diện bị cảnh báo; - Tổ chức phát hành có BCTC kiểm toán năm 2020 có ý kiến không phải là ý kiến chấp nhận toàn phần của tổ chức kiểm toán
A78: 78 | B78: VFG | C78: CTCP Khử trùng Việt Nam | D78: 44386 | E78: Tổ chức phát hành có BCTC kiểm toán năm 2020 có ý kiến không phải là ý kiến chấp nhận toàn phần của tổ chức kiểm toán
A79: 79 | B79: VIE | C79: CTCP Công nghệ Viễn thông VITECO | D79: 44386 | E79: - Tổ chức phát hành có BCTC năm 2020 có ý kiến không phải là ý kiến chấp nhận toàn phần của tổ chức kiểm toán. - Chứng khoán thuộc diện bị cảnh báo.
A80: 80 | B80: VIG | C80: CTCP Chứng khoán Thương mại và Công nghiệp Việt Nam | D80: 44386 | E80: '- Chứng khoán thuộc diện bị kiểm soát;
A81: 81 | B81: VLA | C81: CTCP Đầu tư và Phát triển Công nghệ Văn Lang | D81: 44431 | E81: LNST 6 tháng và LNST chưa phân phối tại BCTC bán niên soát xét 2021 là số âm
A82: 82 | B82: VNT | C82: CTCP Giao nhận vận tải ngoại thương | D82: 44386 | E82: - Chứng khoán thuộc diện bị cảnh báo
A83: 83 | B83: VTH | C83: CTCP Dây cáp điện Việt Thái | D83: 44386 | E83: - Chứng khoán thuộc diện bị cảnh báo
A84: 84 | B84: VTJ | C84: CTCP Thương mại và Đầu tư Vi na ta ba | D84: 44386 | E84: chứng khoán thuộc diện bị cảnh báo
A85: 85 | B85: VTL | C85: CTCP Vang Thăng Long | D85: 44386 | E85: Chứng khoán thuộc diện bị kiểm soát
A86: 86 | B86: VXB | C86: CTCP Vật liệu xây dựng Bến Tre | D86: 44386 | E86: Chứng khoán thuộc diện bị kiểm soát
