Workbook

Sheet Sheet1
D1: CỘNG HÒA XÃ HỘI CHỦ NGHĨA VIỆT NAM
D2: Độc lập - Tự do - Hạnh phúc
B3: --------------------- Số: 08.01 -GDKQ/2021/BC-AIS | D3: ------------------------
D4: Hà Nội, ngày 06 tháng 09 năm 2021
B6: BÁO CÁO TÌNH HÌNH THỰC HIỆN GIAO DỊCH KÝ QUỸ THÁNG 08/2021
B7: Kính gửi: Sở GDCK Hà Nội
B9: Công ty Cổ phần chứng khoán AIS xin báo cáo Sở Giao dịch Chứng khoán Hà Nội danh mục chứng khoán thực hiện giao dịch ký quỹ trong tháng 08/2021 như sau:
B10: Stt | C10: Mã Chứng khoán thực hiện Giao dịch ký quỹ đầu kỳ | D10: Mã Chứng khoán bỏ ra khỏi danh mục giao dịch ký quỹ trong kỳ | E10: Mã Chứng khoán bổ sung vào danh mục giao dịch ký quỹ trong kỳ | F10: Mã Chứng khoán thực hiện Giao dịch ký quỹ cuối kỳ
B11: 1 | C11: AAV | D11: TXM | F11: AAV
B12: 2 | C12: ABT | D12: BXH | F12: ADC
B13: 3 | C13: ADC | D13: PEN | F13: ALT
B14: 4 | C14: ALT | D14: SGD | F14: AME
B15: 5 | C15: AME | D15: CX8 | F15: AMV
B16: 6 | C16: AMV | D16: THB | F16: APS
B17: 7 | C17: APS | D17: PVB | F17: ARM
B18: 8 | C18: ARM | D18: VLA | F18: ART
B19: 9 | C19: ART | D19: SMT | F19: ASG
B20: 10 | C20: ASG | D20: KTT | F20: ATS
B21: 11 | C21: ATS | D21: ABT | F21: BAX
B22: 12 | C22: BAX | D22: BBC | F22: BBS
... B30: 20 | C30: BSC | D30: VND | F30: BTS
B31: 21 | C31: BSI | F31: BTW
B32: 22 | C32: BST | F32: BVS
B33: 23 | C33: BTS | F33: C69
B34: 24 | C34: BTW | F34: CAG
B35: 25 | C35: BVS | F35: CAN
B36: 26 | C36: BXH | F36: CAP
B37: 27 | C37: C69 | F37: CAV
B38: 28 | C38: CAG | F38: CDN
B39: 29 | C39: CAN | F39: CET
B40: 30 | C40: CAP | F40: CLH
B41: 31 | C41: CAV | F41: CLM
B42: 32 | C42: CDN | F42: CMC
... B272: 262 | C272: VNF | F272: X20
B273: 263 | C273: VNR
B274: 264 | C274: VSA
B275: 265 | C275: VSM
B276: 266 | C276: VTC
B277: 267 | C277: VTV
B278: 268 | C278: WCS
...

Sheet Sheet3

Sheet Sheet4
H1: cấm GDKQ | I1: bang gia | J1: 4
H2: ACM | I2: AAV | J2: =VLOOKUP(I2,$H$2:$H$98,1,0) -> #N/A
H3: AMC | I3: ABT | J3: =VLOOKUP(I3,$H$2:$H$98,1,0) -> #N/A
H4: API | I4: ACM | J4: =VLOOKUP(I4,$H$2:$H$98,1,0) -> ACM
H5: APP | I5: ADC | J5: =VLOOKUP(I5,$H$2:$H$98,1,0) -> #N/A
H6: BAB | I6: ALT | J6: =VLOOKUP(I6,$H$2:$H$98,1,0) -> #N/A
H7: BII | I7: AMC | J7: =VLOOKUP(I7,$H$2:$H$98,1,0) -> AMC
H8: BKC | I8: AME | J8: =VLOOKUP(I8,$H$2:$H$98,1,0) -> #N/A
H9: BLF | I9: AMV | J9: =VLOOKUP(I9,$H$2:$H$98,1,0) -> #N/A
H10: BXH | I10: API | J10: =VLOOKUP(I10,$H$2:$H$98,1,0) -> API
H11: C92 | I11: APP | J11: =VLOOKUP(I11,$H$2:$H$98,1,0) -> APP
H12: CEO | I12: APS | J12: =VLOOKUP(I12,$H$2:$H$98,1,0) -> #N/A
H13: CIA | I13: ARM | J13: =VLOOKUP(I13,$H$2:$H$98,1,0) -> #N/A
... H88: VIE | I88: FID | J88: =VLOOKUP(I88,$H$2:$H$98,1,0) -> FID
I89: GDW | J89: =VLOOKUP(I89,$H$2:$H$98,1,0) -> #N/A
H90: VMI | I90: GIC | J90: =VLOOKUP(I90,$H$2:$H$98,1,0) -> #N/A
I91: GKM | J91: =VLOOKUP(I91,$H$2:$H$98,1,0) -> #N/A
I92: GLT | J92: =VLOOKUP(I92,$H$2:$H$98,1,0) -> #N/A
H93: VTJ | I93: GMA | J93: =VLOOKUP(I93,$H$2:$H$98,1,0) -> #N/A
I94: GMX | J94: =VLOOKUP(I94,$H$2:$H$98,1,0) -> #N/A
I95: HAD | J95: =VLOOKUP(I95,$H$2:$H$98,1,0) -> #N/A
H96: VXB | I96: HAP | J96: =VLOOKUP(I96,$H$2:$H$98,1,0) -> #N/A
I97: HAT | J97: =VLOOKUP(I97,$H$2:$H$98,1,0) -> #N/A
I98: HBE | J98: =VLOOKUP(I98,$H$2:$H$98,1,0) -> HBE
I99: HBS | J99: =VLOOKUP(I99,$H$2:$H$98,1,0) -> #N/A
I100: HCC | J100: =VLOOKUP(I100,$H$2:$H$98,1,0) -> #N/A
I101: HCT | J101: =VLOOKUP(I101,$H$2:$H$98,1,0) -> #N/A
I102: HDA | J102: =VLOOKUP(I102,$H$2:$H$98,1,0) -> #N/A
I103: HEV | J103: =VLOOKUP(I103,$H$2:$H$98,1,0) -> #N/A
I104: HGM | J104: =VLOOKUP(I104,$H$2:$H$98,1,0) -> HGM
I105: HHC | J105: =VLOOKUP(I105,$H$2:$H$98,1,0) -> #N/A
I106: HHG | J106: =VLOOKUP(I106,$H$2:$H$98,1,0) -> HHG
I107: HJS | J107: =VLOOKUP(I107,$H$2:$H$98,1,0) -> #N/A
I108: HKB | J108: =VLOOKUP(I108,$H$2:$H$98,1,0) -> HKB
... I273: STP | J273: =VLOOKUP(I273,$H$2:$H$98,1,0) -> #N/A
C274: 1 | I274: SVN | J274: =VLOOKUP(I274,$H$2:$H$98,1,0) -> #N/A
I275: SZB | J275: =VLOOKUP(I275,$H$2:$H$98,1,0) -> #N/A
I276: TA9 | J276: =VLOOKUP(I276,$H$2:$H$98,1,0) -> #N/A
I277: TAR | J277: =VLOOKUP(I277,$H$2:$H$98,1,0) -> #N/A
I278: TBX | J278: =VLOOKUP(I278,$H$2:$H$98,1,0) -> TBX
...

Sheet VLOOK UP
F1: C
E2: AAV | F2: =VLOOKUP(E2,Sheet1!$F$11:$F$281,1,0) -> AAV
E3: ABT | F3: =VLOOKUP(E3,Sheet1!$F$11:$F$281,1,0) -> #N/A
E4: ADC | F4: =VLOOKUP(E4,Sheet1!$F$11:$F$281,1,0) -> ADC
E5: ALT | F5: =VLOOKUP(E5,Sheet1!$F$11:$F$281,1,0) -> ALT
E6: AME | F6: =VLOOKUP(E6,Sheet1!$F$11:$F$281,1,0) -> AME
E7: AMV | F7: =VLOOKUP(E7,Sheet1!$F$11:$F$281,1,0) -> AMV
E8: APS | F8: =VLOOKUP(E8,Sheet1!$F$11:$F$281,1,0) -> APS
E9: ARM | F9: =VLOOKUP(E9,Sheet1!$F$11:$F$281,1,0) -> ARM
E10: ART | F10: =VLOOKUP(E10,Sheet1!$F$11:$F$281,1,0) -> ART
E11: ASG | F11: =VLOOKUP(E11,Sheet1!$F$11:$F$281,1,0) -> ASG
E12: ATS | F12: =VLOOKUP(E12,Sheet1!$F$11:$F$281,1,0) -> ATS
E13: BAX | F13: =VLOOKUP(E13,Sheet1!$F$11:$F$281,1,0) -> BAX
... E60: DTK | F60: =VLOOKUP(E60,Sheet1!$F$11:$F$281,1,0) -> DTK
E61: DVG | F61: =VLOOKUP(E61,Sheet1!$F$11:$F$281,1,0) -> #N/A | G61: quý mới ra
E62: DXP | F62: =VLOOKUP(E62,Sheet1!$F$11:$F$281,1,0) -> DXP
E63: EBS | F63: =VLOOKUP(E63,Sheet1!$F$11:$F$281,1,0) -> EBS
E64: ECI | F64: =VLOOKUP(E64,Sheet1!$F$11:$F$281,1,0) -> ECI
E65: EID | F65: =VLOOKUP(E65,Sheet1!$F$11:$F$281,1,0) -> EID
E66: EVS | F66: =VLOOKUP(E66,Sheet1!$F$11:$F$281,1,0) -> EVS
E67: GDW | F67: =VLOOKUP(E67,Sheet1!$F$11:$F$281,1,0) -> GDW
E68: GIC | F68: =VLOOKUP(E68,Sheet1!$F$11:$F$281,1,0) -> GIC
E69: GKM | F69: =VLOOKUP(E69,Sheet1!$F$11:$F$281,1,0) -> GKM
E70: GLT | F70: =VLOOKUP(E70,Sheet1!$F$11:$F$281,1,0) -> GLT
E71: GMA | F71: =VLOOKUP(E71,Sheet1!$F$11:$F$281,1,0) -> GMA
E72: GMX | F72: =VLOOKUP(E72,Sheet1!$F$11:$F$281,1,0) -> GMX
E73: HAD | F73: =VLOOKUP(E73,Sheet1!$F$11:$F$281,1,0) -> HAD
... E105: L62 | F105: =VLOOKUP(E105,Sheet1!$F$11:$F$281,1,0) -> L62
E106: LAF | F106: =VLOOKUP(E106,Sheet1!$F$11:$F$281,1,0) -> #N/A | G106: Chuyển nhưng giữ
E107: LAS | F107: =VLOOKUP(E107,Sheet1!$F$11:$F$281,1,0) -> LAS
E108: LBE | F108: =VLOOKUP(E108,Sheet1!$F$11:$F$281,1,0) -> LBE
E109: LCD | F109: =VLOOKUP(E109,Sheet1!$F$11:$F$281,1,0) -> LCD
E110: LHC | F110: =VLOOKUP(E110,Sheet1!$F$11:$F$281,1,0) -> LHC
E111: LIG | F111: =VLOOKUP(E111,Sheet1!$F$11:$F$281,1,0) -> LIG
E112: MAC | F112: =VLOOKUP(E112,Sheet1!$F$11:$F$281,1,0) -> MAC
E113: MBG | F113: =VLOOKUP(E113,Sheet1!$F$11:$F$281,1,0) -> MBG
E114: MBS | F114: =VLOOKUP(E114,Sheet1!$F$11:$F$281,1,0) -> MBS
E115: MCC | F115: =VLOOKUP(E115,Sheet1!$F$11:$F$281,1,0) -> MCC
E116: MCF | F116: =VLOOKUP(E116,Sheet1!$F$11:$F$281,1,0) -> MCF
E117: MCO | F117: =VLOOKUP(E117,Sheet1!$F$11:$F$281,1,0) -> MCO
...

Sheet Sheet2
E1: AAV | G1: NST
E2: ABT | G2: TXM
E3: ADC | G3: BXH
E4: ALT | G4: PEN
E5: AME | G5: SGD
E6: AMV | G6: CX8
E7: APS | G7: THB
E8: ARM | G8: PVB
E9: ART | G9: VLA
E10: ASG | G10: SMT
E11: ATS | G11: KTT
E12: BAX | G12: SGR
E13: BBC | G13: NRC
E14: BBS
E15: BCC
E16: BCF
E17: BDB
E18: BED
E19: BPC
E20: BSC
E21: BSI
E22: BST
E23: BTS
E24: BTW
E25: BVS
... E271: X20

Sheet DS K ĐƯỢC KÝ QUỸ 06.09
A1: 1 | B1: ACM | C1: CTCP Tập đoàn Khoáng sản Á Cường | D1: 44386 | E1: - Chứng khoán thuộc diện bị kiểm soát - Tổ chức phát hành có BCTC BNSX 2020 có ý kiến không phải là ý kiến chấp thuận toàn phần của tổ chức kiểm toán
A2: 2 | B2: AMC | C2: CTCP Khoáng sản Á Châu | D2: 44386 | E2: Tổ chức phát hành có BCTC Kiểm toán 2020 có ý kiến không phải là ý kiến chấp nhận toàn phần của tổ chức kiểm toán
A3: 3 | B3: API | C3: CTCP Đầu tư Châu Á - Thái Bình Dương | D3: 44386 | E3: '- Chứng khoán bị cảnh báo
A4: 4 | B4: APP | C4: CTCP Phát triển phụ gia và sản phầm dầu mỏ | D4: 44386 | E4: Tổ chức phát hành có BCTC kiểm toán 2020 có ý kiến không phải là ý kiến chấp nhận toàn phần của tổ chức kiểm toán
A5: 5 | B5: BAB | C5: Ngân hàng TMCP Bắc Á | D5: 44386 | E5: thời gian niêm yết dưới 6 tháng
A6: 6 | B6: BII | C6: CTCP Đầu tư và Phát triển công nghiệp Bảo Thư | D6: 44386 | E6: - Chứng khoán thuộc diện bị cảnh báo -'Tổ chức phát hành có BCTC kiểm toán 2020 có ý kiến không phải là ý kiến chấp nhận toàn phần của tổ chức kiểm toán
A7: 7 | B7: BKC | C7: CTCP Khoáng Sản Bắc Kạn | D7: 44386 | E7: - Chứng khoán thuộc diện bị cảnh báo - Tổ chức phát hành có BCTC kiểm toán năm 2020 có ý kiến không phải là ý kiến chấp nhận toàn phần của tổ chức kiểm toán
A8: 8 | B8: BLF | C8: CTCP Thủy sản Bạc Liêu | D8: 44434 | E8: LNST 6 tháng tại BCTC bán niên soát xét 2021 là số âm
A9: 9 | B9: BXH | C9: CTCP Vicem Bao bì Hải Phòng | D9: 44426 | E9: - Tổ chức phát hành có BCTC bán niên soát xét năm 2021 có ý kiến không phải là ý kiến chấp nhận toàn phần của tổ chức kiểm toán.
A10: 10 | B10: C92 | C10: CTCP Xây dựng và đầu tư 492 | D10: 44386 | E10: - Chứng khoán thuộc diện bị cảnh báo. -Tổ chức phát hành có BCTC kiểm toán năm 2020 có ý kiến không phải là ý kiến chấp nhận toàn phần của tổ chức kiểm toán
A11: 11 | B11: CEO | C11: CTCP Tập đoàn C.E.O | D11: 44386 | E11: - Chứng khoán thuộc diện bị cảnh báo
A12: 12 | B12: CIA | C12: CTCP Dịch vụ sân bay quốc tế Cam Ranh | D12: 44386 | E12: - Chứng khoán thuộc diện bị cảnh báo
A13: 13 | B13: CJC | C13: CTCP Coơ điện miền Trung | D13: 44386 | E13: - Chứng khoán thuộc diện bị cảnh báo
A14: 14 | B14: CKV | C14: CTCP COKYVINA | D14: 44386 | E14: Tổ chức phát hành có BCTC Kiểm toán năm 2020 có ý kiến không phải là ý kiến chấp nhận toàn phần của tổ chức kiểm toán
A15: 15 | B15: CMS | C15: CTCP CMVIETNAM | D15: 44386 | E15: - Chứng khoán thuộc diện bị cảnh báo - Tổ chức phát hành có BCTC kiểm toán năm 2020 có ý kiến không phải là ý kiến chấp nhận toàn phần của tổ chức kiểm toán
A16: 16 | B16: CTC | C16: CTCP Gia Lai CTC | D16: 44386 | E16: - Chứng khoán thuộc diện bị cảnh báo; - Tổ chức phát hành có BCTC kiểm toán năm 2020 có ý kiến không phải là ý kiến chấp nhận toàn phần của tổ chức kiểm toán
A17: 17 | B17: CTX | C17: Tổng CTCP Đầu tư xây dựng và thương mại Việt Nam | D17: 44386 | E17: - Chứng khoán thuộc diện bị cảnh báo
A18: 18 | B18: CX8 | C18: CTCP Đầu tư và Xây lắp Contrexim số 8 | D18: 44431 | E18: LNST 6 tháng và LNST chưa phân phối tại BCTC bán niên soát xét 2021 là số âm
A19: 19 | B19: DST | C19: CTCP Đầu tư Sao Thăng Long | D19: 44386 | E19: -Chứng khoán thuộc diện bị cảnh báo
A20: 20 | B20: DXS | C20: CTCP Dịch vụ Bất động sản Đất Xanh | D20: 44392 | E20: thời gian niêm yết dưới 6 tháng
A21: 21 | B21: DZM | C21: CTCP Chế tạo máy Dzĩ An | D21: 44386 | E21: -Chứng khoán thuộc diện bị cảnh báo
A22: 22 | B22: EBA | C22: CTCP Điện Bắc Nà | D22: 44403 | E22: Chứng khoán niêm yết trong tình trạng bị hủy niêm yết
A23: 23 | B23: FID | C23: CTCP Đầu tư và Phát triển Doanh nghiệp Việt Nam | D23: 44386 | E23: -Chứng khoán thuộc diện bị cảnh báo
A24: 24 | B24: HBE | C24: CTCP Sách thiết bị trường học Hà Tĩnh | D24: 44386 | E24: Chứng khoán thuộc diện bị hủy niêm yết
A25: 25 | B25: HGM | C25: CTCP Cơ khí và Khoáng sản Hà Giang | D25: 44386 | E25: Tổ chức phát hành có BCTC Kiểm toán năm 2020 có ý kiến không phải là ý kiến chấp nhận toàn phần của tổ chức kiểm toán
A26: 26 | B26: HHG | C26: CTCP Hoàng Hà | D26: 44386 | E26: '- Chứng khoán thuộc diện bị cảnh báo
A27: 27 | B27: HKB | C27: CTCP Nông nghiệp và Thực phẩm Hà Nội-Kinh Bắc | D27: 44386 | E27: -Chứng khoán thuộc diện bị hủy niêm yết - Tổ chức phát hành có BCTC năm 2019, 2020 có ý kiến không phải là ý kiến chấp thuận toàn phần
A28: 28 | B28: HKT | C28: CTCP Đầu tư Ego Việt Nam | D28: 44433 | E28: LNST 6 tháng tại BCTC bán niên soát xét 2021 là số âm
A29: 29 | B29: HPM | C29: CTCP Xây dựng Thương mại và Khoáng sản Hoàng Phúc | D29: 44386 | E29: - Chứng khoán thuộc diện bị kiểm soát. - Tổ chức phát hành có BCTC kiểm toán năm 2020 có ý kiến không phải là ý kiến chấp nhận toàn phần của tổ chức kiểm toán
A30: 30 | B30: HUT | C30: CTCP Tasco | D30: 44386 | E30: Chứng khoán thuộc diện bị cảnh báo
A31: 31 | B31: IVS | C31: CTCP Chứng khoán Đầu tư Việt Nam | D31: 44386 | E31: Chứng khoán thuộc diện bị cảnh báo
A32: 32 | B32: KHG | C32: CTCP Bất động sản Khải Hoàn Land | D32: 44396 | E32: thời gian niêm yết dưới 6 tháng
A33: 33 | B33: KSD | C33: CTCP Đầu tư DNA | D33: 44386 | E33: Chứng khoán thuộc diện bị cảnh báo
A34: 34 | B34: KSQ | C34: CTCP CNC Capital Việt Nam | D34: 44386 | E34: - Chứng khoán thuộc diện bị cảnh báo -Tổ chức phát hành có BCTC kiểm toán năm 2020 có ý kiến không phải là ý kiến chấp nhận toàn phần của tổ chức kiểm toán
A35: 35 | B35: KTT | C35: CTCP Tập đoàn Đầu tư KTT | D35: 44439 | E35: LNST 6 tháng tại BCTC bán niên soát xét 2021 là số âm
A36: 36 | B36: KVC | C36: CTCP Sản xuất Xuất nhập khẩu Inox Kim Vĩ | D36: 44386 | E36: - Chứng khoán thuộc diện bị cảnh báo
A37: 37 | B37: L18 | C37: CTCP Đầu tư và xây dựng số 18 | D37: 44386 | E37: Tổ chức phát hành có BCTC kiểm toán năm 2020 có ý kiến không phải là ý kiến chấp nhận toàn phần của tổ chức kiểm toán
A38: 38 | B38: L35 | C38: CTCP Cơ khí lắp máy lilama | D38: 44386 | E38: - Chứng khoán thuộc diện bị cảnh báo
A39: 39 | B39: L40 | C39: CTCP Đầu tư và Xây dựng 40 | D39: 44386 | E39: thời gian niêm yết dưới 6 tháng
A40: 40 | B40: L43 | C40: CTCP Lilama 45.3 | D40: 44386 | E40: - Chứng khoán thuộc diện bị cảnh báo
...
