Workbook

Sheet Danh sách 08.2021
D1: CỘNG HÒA XÃ HỘI CHỦ NGHĨA VIỆT NAM
D2: Độc lập - Tự do - Hạnh phúc
B3: --------------------- Số: 08.02-GDKQ/2021/BC-AIS | D3: ------------------------
D4: Hà Nội, ngày 06 tháng 09 năm 2021
B6: BÁO CÁO TÌNH HÌNH THỰC HIỆN GIAO DỊCH KÝ QUỸ THÁNG 08/2021
B7: Kính gửi: Sở GDCK Tp.Hồ Chí Minh
B9: Công ty Cổ phần chứng khoán AIS xin báo cáo Sở Giao dịch Chứng khoán Tp.HCM danh mục chứng khoán thực hiện giao dịch ký quỹ trong tháng 08/2021 như sau:
B11: Stt | C11: Mã Chứng khoán thực hiện Giao dịch ký quỹ đầu kỳ | D11: Mã Chứng khoán bỏ ra khỏi danh mục giao dịch ký quỹ trong kỳ | E11: Mã Chứng khoán bổ sung vào danh mục giao dịch ký quỹ trong kỳ | F11: Mã Chứng khoán thực hiện Giao dịch ký quỹ cuối kỳ
B13: 1 | C13: MSB | D13: VPS | E13: ADG | F13: MSB | G13: =VLOOKUP(F13,'CÓ KQ'!$C$2:$C$329,1,0) -> MSB
B14: 2 | C14: AAA | D14: CHP | E14: ABT | F14: AAA | G14: =VLOOKUP(F14,'CÓ KQ'!$C$2:$C$329,1,0) -> AAA
B15: 3 | C15: ABS | D15: SCD | E15: BBC | F15: ABS | G15: =VLOOKUP(F15,'CÓ KQ'!$C$2:$C$329,1,0) -> ABS
B16: 4 | C16: ACB | D16: TNI | E16: BSI | F16: ACB | G16: =VLOOKUP(F16,'CÓ KQ'!$C$2:$C$329,1,0) -> ACB
B17: 5 | C17: ACC | D17: PNC | E17: HAP | F17: ACC | G17: =VLOOKUP(F17,'CÓ KQ'!$C$2:$C$329,1,0) -> ACC
B18: 6 | C18: ACL | D18: PVD | E18: NSC | F18: ACL | G18: =VLOOKUP(F18,'CÓ KQ'!$C$2:$C$329,1,0) -> ACL
B19: 7 | C19: ADS | D19: SGR | E19: PAN | F19: ADS | G19: =VLOOKUP(F19,'CÓ KQ'!$C$2:$C$329,1,0) -> ADS
B20: 8 | C20: AGG | D20: DAG | E20: SSC | F20: AGG | G20: =VLOOKUP(F20,'CÓ KQ'!$C$2:$C$329,1,0) -> AGG
B21: 9 | C21: AGM | E21: THI | F21: AGM | G21: =VLOOKUP(F21,'CÓ KQ'!$C$2:$C$329,1,0) -> AGM
B22: 10 | C22: AMD | E22: TVB | F22: AMD | G22: =VLOOKUP(F22,'CÓ KQ'!$C$2:$C$329,1,0) -> AMD
B23: 11 | C23: ANV | E23: VND | F23: ANV | G23: =VLOOKUP(F23,'CÓ KQ'!$C$2:$C$329,1,0) -> ANV
B24: 12 | C24: APC | F24: APC | G24: =VLOOKUP(F24,'CÓ KQ'!$C$2:$C$329,1,0) -> APC
B25: 13 | C25: APG | F25: APG | G25: =VLOOKUP(F25,'CÓ KQ'!$C$2:$C$329,1,0) -> APG
B26: 14 | C26: APH | F26: APH | G26: =VLOOKUP(F26,'CÓ KQ'!$C$2:$C$329,1,0) -> APH
B27: 15 | C27: ASM | F27: ASM | G27: =VLOOKUP(F27,'CÓ KQ'!$C$2:$C$329,1,0) -> ASM
B28: 16 | C28: ASP | F28: ASP | G28: =VLOOKUP(F28,'CÓ KQ'!$C$2:$C$329,1,0) -> ASP
B29: 17 | C29: BCE | F29: BCE | G29: =VLOOKUP(F29,'CÓ KQ'!$C$2:$C$329,1,0) -> BCE
B30: 18 | C30: BCG | F30: BCG | G30: =VLOOKUP(F30,'CÓ KQ'!$C$2:$C$329,1,0) -> BCG
B31: 19 | C31: BCM | F31: BCM | G31: =VLOOKUP(F31,'CÓ KQ'!$C$2:$C$329,1,0) -> BCM
B32: 20 | C32: BFC | F32: BFC | G32: =VLOOKUP(F32,'CÓ KQ'!$C$2:$C$329,1,0) -> BFC
B33: 21 | C33: BIC | F33: BIC | G33: =VLOOKUP(F33,'CÓ KQ'!$C$2:$C$329,1,0) -> BIC
B34: 22 | C34: BID | F34: BID | G34: =VLOOKUP(F34,'CÓ KQ'!$C$2:$C$329,1,0) -> BID
B35: 23 | C35: BMC | F35: BMC | G35: =VLOOKUP(F35,'CÓ KQ'!$C$2:$C$329,1,0) -> BMC
... B336: 325 | C336: OCB | F336: SSC | G336: =VLOOKUP(F336,'CÓ KQ'!$C$2:$C$329,1,0) -> #N/A
F337: THI | G337: =VLOOKUP(F337,'CÓ KQ'!$C$2:$C$329,1,0) -> #N/A
F338: TVB | G338: =VLOOKUP(F338,'CÓ KQ'!$C$2:$C$329,1,0) -> #N/A
F339: VND | G339: =VLOOKUP(F339,'CÓ KQ'!$C$2:$C$329,1,0) -> #N/A
G342: =VLOOKUP(F342,'CÓ KQ'!$C$2:$C$329,1,0) -> #N/A
G343: =VLOOKUP(F343,'CÓ KQ'!$C$2:$C$329,1,0) -> #N/A
B349: 326
A350: https://www.aisec.com.vn/blog/cong-bo-thong-tin/thong-bao-ais.html | K350: =VLOOKUP(F350,'[1]hose 2021'!C$2:C$65,1,0) -> #N/A
A351: Chúng tôi cam kết và chịu trách nhiệm về tính trung thực của báo cáo này. | K351: =VLOOKUP(F351,'[1]hose 2021'!C$2:C$65,1,0) -> #N/A
C353: NGƯỜI LẬP (ký, ghi rõ họ tên) | D353: KIỂM SOÁT (ký, ghi rõ họ tên) | E353: TỔNG GIÁM ĐỐC (ký, đóng dấu và ghi rõ họ tên)
B356: Nguyễn Thị Ngọc Minh | D356: Nguyễn Thị Nhung | E356: Nguyễn Ngô Thị Thu Phương

Sheet TỔNG HOSE
B1: tổng | C1: không ký quỹ | D1: còn
B2: AAA | C2: DAG | D2: =VLOOKUP(B2,$C$2:$C$71,1,0) -> #N/A
B3: AAM | C3: SGR | D3: =VLOOKUP(B1,$C$4:$C$71,1,0) -> #N/A
B4: AAT | C4: PVD | D4: =VLOOKUP(B2,$C$4:$C$71,1,0) -> #N/A
B5: ABS | C5: DAG | D5: =VLOOKUP(B3,$C$4:$C$71,1,0) -> AAM
B6: ACB | C6: SGR | D6: =VLOOKUP(B4,$C$4:$C$71,1,0) -> AAT
B7: ACC | C7: PNC | D7: =VLOOKUP(B5,$C$4:$C$71,1,0) -> #N/A
B8: ACL | C8: CHP | D8: =VLOOKUP(B6,$C$4:$C$71,1,0) -> #N/A
B9: ADG | C9: SCD | D9: =VLOOKUP(B7,$C$4:$C$71,1,0) -> #N/A
B10: ADS | C10: TNI | D10: =VLOOKUP(B8,$C$4:$C$71,1,0) -> #N/A
B11: AGG | C11: VPS | D11: =VLOOKUP(B9,$C$4:$C$71,1,0) -> #N/A
B12: AGM | C12: AAM | D12: =VLOOKUP(B10,$C$4:$C$71,1,0) -> #N/A
B13: AGR | C13: AAT | D13: =VLOOKUP(B11,$C$4:$C$71,1,0) -> #N/A
B14: AMD | C14: AGR | D14: =VLOOKUP(B12,$C$4:$C$71,1,0) -> #N/A
... B71: DBC | C71: YEG | D71: =VLOOKUP(B69,$C$4:$C$71,1,0) -> DAH
B72: DBD | D72: =VLOOKUP(B70,$C$4:$C$71,1,0) -> #N/A
B73: DBT | D73: =VLOOKUP(B71,$C$4:$C$71,1,0) -> #N/A
B74: DC4 | D74: =VLOOKUP(B72,$C$4:$C$71,1,0) -> #N/A
B75: DCL | D75: =VLOOKUP(B73,$C$4:$C$71,1,0) -> #N/A
B76: DCM | D76: =VLOOKUP(B74,$C$4:$C$71,1,0) -> #N/A
B77: DGC | D77: =VLOOKUP(B75,$C$4:$C$71,1,0) -> #N/A
B78: DGW | D78: =VLOOKUP(B76,$C$4:$C$71,1,0) -> #N/A
B79: DHA | D79: =VLOOKUP(B77,$C$4:$C$71,1,0) -> #N/A
B80: DHC | D80: =VLOOKUP(B78,$C$4:$C$71,1,0) -> #N/A
B81: DHG | D81: =VLOOKUP(B79,$C$4:$C$71,1,0) -> #N/A
B82: DHM | D82: =VLOOKUP(B80,$C$4:$C$71,1,0) -> #N/A
B83: DIG | D83: =VLOOKUP(B81,$C$4:$C$71,1,0) -> #N/A
... B396: YBM | D396: =VLOOKUP(B394,$C$4:$C$71,1,0) -> #N/A
D397: =VLOOKUP(B395,$C$4:$C$71,1,0) -> #N/A
D398: =VLOOKUP(B396,$C$4:$C$71,1,0) -> #N/A
B399: YEG | D399: =VLOOKUP(B399,$C$4:$C$71,1,0) -> YEG

Sheet CÓ KQ
D1: C
C2: AAA | D2: =VLOOKUP(C2,'Danh sách 08.2021'!$F$13:$F$329,1,0) -> AAA
C3: ABS | D3: =VLOOKUP(C3,'Danh sách 08.2021'!$F$13:$F$329,1,0) -> ABS
C4: ACB | D4: =VLOOKUP(C4,'Danh sách 08.2021'!$F$13:$F$329,1,0) -> ACB
C5: ACC | D5: =VLOOKUP(C5,'Danh sách 08.2021'!$F$13:$F$329,1,0) -> ACC
C6: ACL | D6: =VLOOKUP(C6,'Danh sách 08.2021'!$F$13:$F$329,1,0) -> ACL
C7: ADG | D7: =VLOOKUP(C7,'Danh sách 08.2021'!$F$13:$F$329,1,0) -> ADG
C8: ADS | D8: =VLOOKUP(C8,'Danh sách 08.2021'!$F$13:$F$329,1,0) -> ADS
C9: AGG | D9: =VLOOKUP(C9,'Danh sách 08.2021'!$F$13:$F$329,1,0) -> AGG
C10: AGM | D10: =VLOOKUP(C10,'Danh sách 08.2021'!$F$13:$F$329,1,0) -> AGM
C11: AMD | D11: =VLOOKUP(C11,'Danh sách 08.2021'!$F$13:$F$329,1,0) -> AMD
C12: ANV | D12: =VLOOKUP(C12,'Danh sách 08.2021'!$F$13:$F$329,1,0) -> ANV
C13: APC | D13: =VLOOKUP(C13,'Danh sách 08.2021'!$F$13:$F$329,1,0) -> APC
... C17: ASP | D17: =VLOOKUP(C17,'Danh sách 08.2021'!$F$13:$F$329,1,0) -> ASP
C18: ATP | D18: =VLOOKUP(C18,'Danh sách 08.2021'!$F$13:$F$329,1,0) -> #N/A | E18: K CÓ CTY
C19: BCE | D19: =VLOOKUP(C19,'Danh sách 08.2021'!$F$13:$F$329,1,0) -> BCE
C20: BCG | D20: =VLOOKUP(C20,'Danh sách 08.2021'!$F$13:$F$329,1,0) -> BCG
C21: BCM | D21: =VLOOKUP(C21,'Danh sách 08.2021'!$F$13:$F$329,1,0) -> BCM
C22: BFC | D22: =VLOOKUP(C22,'Danh sách 08.2021'!$F$13:$F$329,1,0) -> BFC
C23: BIC | D23: =VLOOKUP(C23,'Danh sách 08.2021'!$F$13:$F$329,1,0) -> BIC
C24: BID | D24: =VLOOKUP(C24,'Danh sách 08.2021'!$F$13:$F$329,1,0) -> BID
C25: BKG | D25: =VLOOKUP(C25,'Danh sách 08.2021'!$F$13:$F$329,1,0) -> BKG
C26: BMC | D26: =VLOOKUP(C26,'Danh sách 08.2021'!$F$13:$F$329,1,0) -> BMC
C27: BMI | D27: =VLOOKUP(C27,'Danh sách 08.2021'!$F$13:$F$329,1,0) -> BMI
C28: BMP | D28: =VLOOKUP(C28,'Danh sách 08.2021'!$F$13:$F$329,1,0) -> BMP
C29: BRC | D29: =VLOOKUP(C29,'Danh sách 08.2021'!$F$13:$F$329,1,0) -> BRC
C30: BTP | D30: =VLOOKUP(C30,'Danh sách 08.2021'!$F$13:$F$329,1,0) -> BTP
... C84: DVP | D84: =VLOOKUP(C84,'Danh sách 08.2021'!$F$13:$F$329,1,0) -> DVP
C85: DXS | D85: =VLOOKUP(C85,'Danh sách 08.2021'!$F$13:$F$329,1,0) -> #N/A | E85: K CÓ CTY | F85: Mới ny
C86: E1VFVN30
C87: EIB | D87: =VLOOKUP(C87,'Danh sách 08.2021'!$F$13:$F$329,1,0) -> EIB
C88: ELC | D88: =VLOOKUP(C88,'Danh sách 08.2021'!$F$13:$F$329,1,0) -> ELC
C89: EMC | D89: =VLOOKUP(C89,'Danh sách 08.2021'!$F$13:$F$329,1,0) -> EMC
C90: EVE | D90: =VLOOKUP(C90,'Danh sách 08.2021'!$F$13:$F$329,1,0) -> EVE
C91: EVG | D91: =VLOOKUP(C91,'Danh sách 08.2021'!$F$13:$F$329,1,0) -> EVG
C92: FCM | D92: =VLOOKUP(C92,'Danh sách 08.2021'!$F$13:$F$329,1,0) -> FCM
C93: FCN | D93: =VLOOKUP(C93,'Danh sách 08.2021'!$F$13:$F$329,1,0) -> FCN
C94: FIR | D94: =VLOOKUP(C94,'Danh sách 08.2021'!$F$13:$F$329,1,0) -> FIR
C95: FIT | D95: =VLOOKUP(C95,'Danh sách 08.2021'!$F$13:$F$329,1,0) -> FIT
C96: FLC | D96: =VLOOKUP(C96,'Danh sách 08.2021'!$F$13:$F$329,1,0) -> FLC
C97: FMC | D97: =VLOOKUP(C97,'Danh sách 08.2021'!$F$13:$F$329,1,0) -> FMC
C98: FPT | D98: =VLOOKUP(C98,'Danh sách 08.2021'!$F$13:$F$329,1,0) -> FPT
... C100: FTS | D100: =VLOOKUP(C100,'Danh sách 08.2021'!$F$13:$F$329,1,0) -> FTS
C101: FUCTVGF2
C102: FUCVREIT
C103: FUEMAV30
C104: FUESSV30
C105: FUESSV50
C106: FUESSVFL
C107: FUEVFVND
C108: FUEVN100
C109: GAB | D109: =VLOOKUP(C109,'Danh sách 08.2021'!$F$13:$F$329,1,0) -> GAB
C110: GAS | D110: =VLOOKUP(C110,'Danh sách 08.2021'!$F$13:$F$329,1,0) -> GAS
C111: GDT | D111: =VLOOKUP(C111,'Danh sách 08.2021'!$F$13:$F$329,1,0) -> GDT
C112: GEG | D112: =VLOOKUP(C112,'Danh sách 08.2021'!$F$13:$F$329,1,0) -> GEG
C113: GEX | D113: =VLOOKUP(C113,'Danh sách 08.2021'!$F$13:$F$329,1,0) -> GEX
C114: GIL | D114: =VLOOKUP(C114,'Danh sách 08.2021'!$F$13:$F$329,1,0) -> GIL
C115: GMC | D115: =VLOOKUP(C115,'Danh sách 08.2021'!$F$13:$F$329,1,0) -> GMC
C116: GMD | D116: =VLOOKUP(C116,'Danh sách 08.2021'!$F$13:$F$329,1,0) -> GMD
C117: GSP | D117: =VLOOKUP(C117,'Danh sách 08.2021'!$F$13:$F$329,1,0) -> GSP
C118: GTA | D118: =VLOOKUP(C118,'Danh sách 08.2021'!$F$13:$F$329,1,0) -> GTA
C119: GVR | D119: =VLOOKUP(C119,'Danh sách 08.2021'!$F$13:$F$329,1,0) -> GVR
C120: HAH | D120: =VLOOKUP(C120,'Danh sách 08.2021'!$F$13:$F$329,1,0) -> HAH
... C331: SGR | D331: =VLOOKUP(C331,'Danh sách 08.2021'!$F$13:$F$329,1,0) -> #N/A

Sheet không ký quỹ
C2: PVD | D2: VN000000PVD2 | E2: BBG000QFVBX2 | F2: Tổng Công ty Cổ phần Khoan và Dịch vụ Khoan Dầu khí | G2: 44439
B3: 238 | C3: DAG | D3: VN000000DAG5 | E3: BBG000QMJMD9 | F3: Công ty Cổ phần Tập đoàn Nhựa Đông Á | G3: 44438 | H3: Lợi nhuận sau thuế của cổ đông công ty mẹ trên BCTC hợp nhất soát xét 6 tháng năm 2021 là số âm.
B4: 677 | C4: SGR | D4: VN000000SGR7 | E4: BBG008MWKWZ6 | F4: Công ty Cổ phần Địa ốc Sài Gòn | G4: 44435 | H4: Lợi nhuận sau thuế của cổ đông công ty mẹ trên BCTC hợp nhất soát xét 6 tháng năm 2021 là số âm.
B5: 71 | C5: PNC | D5: VN000000PNC1 | E5: BBG000CXCXK5 | F5: Công ty Cổ phần Văn hóa Phương Nam | G5: 44432 | H5: Lợi nhuận sau thuế của cổ đông công ty mẹ trên BCTC hợp nhất soát xét 6 tháng năm 2021 là số âm.
B6: 616 | C6: CHP | D6: VN000000CHP3 | E6: BBG000QR8VJ4 | F6: Công ty Cổ phần Thủy điện Miền Trung | G6: 44424 | H6: Lợi nhuận sau thuế trên BCTC soát xét 6 tháng năm 2021 là số âm.
B7: 48 | C7: SCD | D7: VN000000SCD6 | E7: BBG000QMWS69 | F7: Công ty Cổ phần Nước giải khát Chương Dương | G7: 44424 | H7: Lợi nhuận sau thuế trên BCTC soát xét 6 tháng năm 2021 là số âm.
B8: 657 | C8: TNI | D8: VN000000TNI0 | E8: BBG00GBHZSF8 | F8: Công ty Cổ phần Tập đoàn Thành Nam | G8: 44424 | H8: Lợi nhuận sau thuế của cổ đông công ty mẹ trên BCTC hợp nhất soát xét 6 tháng năm 2021 là số âm.
B9: 593 | C9: VPS | D9: VN000000VPS0 | E9: BBG009RT5X54 | F9: Công ty Cổ phần Thuốc sát trùng Việt Nam | G9: 44418 | H9: Báo cáo tài chính hợp nhất bán niên năm 2021 được soát xét có ý kiến không phải là ý kiến chấp nhận toàn phần của tổ chức kiểm toán.
B10: 147 | C10: AAM | D10: VN000000AAM9 | E10: BBG000PDD0V4 | F10: Công ty Cổ phần Thủy sản Mekong | G10: 44382 | H10: Chứng khoán thuộc diện cảnh báo.
B11: 970 | C11: AAT | D11: VN000000AAT4 | E11: BBG00YQ95PD2 | F11: Công ty Cổ phần Tiên Sơn Thanh Hóa | G11: 44382 | H11: Thời gian niêm yết dưới 06 tháng.
B12: 213 | C12: AGR | D12: VN000000AGR5 | E12: BBG000PZH6N7 | F12: Công ty Cổ phần Chứng khoán Agribank | G12: 44382 | H12: Chứng khoán thuộc diện cảnh báo.
B13: 694 | C13: AST | D13: VN000000AST6 | E13: BBG00JM8H178 | F13: Công ty Cổ phần Dịch vụ Hàng không Taseco | G13: 44382 | H13: Chứng khoán thuộc diện cảnh báo.
B14: 640 | C14: BHN | D14: VN000000BHN0 | E14: BBG00F335DJ2 | F14: Tổng Công ty Cổ phần Bia – Rượu – Nước giải khát Hà Nội | G14: 44382 | H14: Báo cáo tài chính công ty mẹ năm 2020 được kiểm toán có ý kiến không phải là ý kiến chấp nhận toàn phần của tổ chức kiểm toán.
... B31: 329 | C31: HU1 | D31: VN000000HU19 | E31: BBG000QY0HP1 | F31: Công ty Cổ phần Đầu tư và Xây dựng HUD1 | G31: 44382 | H31: Báo cáo tài chính Hợp nhất năm 2020 được kiểm toán có ý kiến không phải là ý kiến chấp thuận toàn phần của tổ chức kiểm toán.
C32: HU3 | D32: VN000000HU35 | E32: BBG001KKX7N3 | F32: Công ty Cổ phần Đầu tư và Xây dựng HUD3 | G32: 44382 | H32: Báo cáo tài chính Hợp nhất năm 2020 được kiểm toán có ý kiến không phải là ý kiến chấp thuận toàn phần của tổ chức kiểm toán.
B33: 768 | C33: HVN | D33: VN000000HVN8 | E33: BBG000FWLXH8 | F33: Tổng Công ty Hàng không Việt Nam - CTCP | G33: 44382 | H33: Chứng khoán thuộc diện cảnh báo.
B34: 298 | C34: JVC | D34: VN000000JVC7 | E34: BBG001QQZ3M2 | F34: Công ty Cổ phần Thiết bị Y tế Việt Nhật | G34: 44382 | H34: Chứng khoán thuộc diện kiểm soát.
B35: 341 | C35: LCM | D35: VN000000LCM2 | E35: BBG00227Y410 | F35: Công ty Cổ phần Khai thác và Chế biến Khoáng sản Lào Cai | G35: 44382 | H35: Chứng khoán thuộc diện kiểm soát.
B36: 225 | C36: LGL | D36: VN000000LGL5 | E36: BBG000PLL5F4 | F36: Công ty Cổ phần Đầu tư và Phát triển Đô thị Long Giang | G36: 44382 | H36: Báo cáo tài chính Hợp nhất năm 2020 được kiểm toán có ý kiến không phải là ý kiến chấp thuận toàn phần của tổ chức kiểm toán.
B37: 224 | C37: MCG | D37: VN000000MCG2 | E37: BBG000PDD8G4 | F37: Công ty Cổ phần Cơ điện và Xây dựng Việt Nam | G37: 44382 | H37: Chứng khoán thuộc diện kiểm soát.
B38: 44 | C38: MHC | D38: VN000000MHC0 | E38: BBG000BX72W7 | F38: Công ty Cổ phần MHC | G38: 44382 | H38: Chứng khoán thuộc diện cảnh báo.
B39: 840 | C39: MIG | D39: VN000000MIG9 | E39: BBG00GKB6R65 | F39: Tổng Công ty Cổ phần Bảo hiểm Quân đội | G39: 44382 | H39: Thời gian niêm yết dưới 06 tháng.
B40: 252 | C40: NVT | D40: VN000000NVT3 | E40: BBG000QTW822 | F40: Công ty Cổ phần Bất động sản Du lịch Ninh Vân Bay | G40: 44382 | H40: Chứng khoán thuộc diện cảnh báo.
B41: 260 | C41: OGC | D41: VN000000OGC8 | E41: BBG000QSB710 | F41: Công ty Cổ phần Tập đoàn Đại Dương | G41: 44382 | H41: Chứng khoán thuộc diện kiểm soát.
B42: 122 | C42: PIT | D42: VN000000PIT5 | E42: BBG000PMW935 | F42: Công ty Cổ phần Xuất nhập khẩu Petrolimex | G42: 44382 | H42: Chứng khoán thuộc diện cảnh báo.
B43: 675 | C43: PLP | D43: VN000000PLP7 | E43: BBG00H44X8M1 | F43: Công ty Cổ phần Sản xuất và Công nghệ Nhựa Pha Lê | G43: 44382 | H43: Báo cáo tài chính năm 2020 được kiểm toán có ý kiến không phải là ý kiến chấp thuận toàn phần của tổ chức kiểm toán.
B44: 700 | C44: PMG | D44: VN000000PMG4 | E44: BBG00JN3TXJ2 | F44: Công ty Cổ phần Đầu tư và Sản xuất Petro Miền Trung | G44: 44382 | H44: Chứng khoán thuộc diện cảnh báo.
... B61: 87 | C61: TS4 | D61: VN000000TS43 | E61: BBG000BTBDD8 | F61: Công ty Cổ phần Thủy sản số 4 | G61: 44382 | H61: Chứng khoán thuộc diện tạm ngừng giao dịch.
C62: TTE | D62: VN000000TTE6 | E62: BBG00MNX51V1 | F62: Công ty Cổ phần Đầu tư Năng lượng Trường Thịnh | G62: 44382 | H62: Chứng khoán thuộc diện cảnh báo..
C63: TTF | D63: VN000000TTF3 | E63: BBG000TFT0R3 | F63: Công ty Cổ phần Tập đoàn Kỹ nghệ Gỗ Trường Thành | G63: 44382 | H63: Chứng khoán thuộc diện kiểm soát.
C64: UDC | D64: VN000000UDC2 | E64: BBG000R4BZZ3 | F64: Công ty Cổ phần Xây dựng và Phát triển Đô thị tỉnh Bà Rịa - Vũng Tàu | G64: 44382 | H64: Chứng khoán thuộc diện cảnh báo.
C65: VCA | D65: VN000000VCA6 | E65: BBG000TRCXM8 | F65: Công ty Cổ phần Thép VICASA - VNSTEEL | G65: 44382 | H65: Thời gian niêm yết dưới 06 tháng.
C66: VIS | D66: VN000000VIS5 | E66: BBG000QMX9P9 | F66: Công ty Cổ phần Thép Việt - Ý | G66: 44382 | H66: Chứng khoán thuộc diện cảnh báo.
C67: VNS | D67: VN000000VNS5 | E67: BBG000HG0KH2 | F67: Công ty Cổ phần Ánh Dương Việt Nam | G67: 44382 | H67: Chứng khoán thuộc diện cảnh báo.
C68: VOS | D68: VN000000VOS3 | E68: BBG0015NLBK1 | F68: Công ty Cổ phần Vận tải Biển Việt Nam | G68: 44382 | H68: Chứng khoán thuộc diện kiểm soát.
C69: YEG | D69: VN000000YEG3 | E69: BBG00KZYHN85 | F69: Công ty Cổ phần Tập đoàn Yeah1 | G69: 44382 | H69: Chứng khoán thuộc diện kiểm soát.
